BEGIN:VCALENDAR
VERSION:2.0
PRODID:-//Parallel Worlds - ECPv6.15.20//NONSGML v1.0//EN
CALSCALE:GREGORIAN
METHOD:PUBLISH
X-ORIGINAL-URL:https://parallel-worlds.co.uk
X-WR-CALDESC:Events for Parallel Worlds
REFRESH-INTERVAL;VALUE=DURATION:PT1H
X-Robots-Tag:noindex
X-PUBLISHED-TTL:PT1H
BEGIN:VTIMEZONE
TZID:Europe/London
BEGIN:DAYLIGHT
TZOFFSETFROM:+0000
TZOFFSETTO:+0100
TZNAME:BST
DTSTART:20240331T010000
END:DAYLIGHT
BEGIN:STANDARD
TZOFFSETFROM:+0100
TZOFFSETTO:+0000
TZNAME:GMT
DTSTART:20241027T010000
END:STANDARD
BEGIN:DAYLIGHT
TZOFFSETFROM:+0000
TZOFFSETTO:+0100
TZNAME:BST
DTSTART:20250330T010000
END:DAYLIGHT
BEGIN:STANDARD
TZOFFSETFROM:+0100
TZOFFSETTO:+0000
TZNAME:GMT
DTSTART:20251026T010000
END:STANDARD
BEGIN:DAYLIGHT
TZOFFSETFROM:+0000
TZOFFSETTO:+0100
TZNAME:BST
DTSTART:20260329T010000
END:DAYLIGHT
BEGIN:STANDARD
TZOFFSETFROM:+0100
TZOFFSETTO:+0000
TZNAME:GMT
DTSTART:20261025T010000
END:STANDARD
END:VTIMEZONE
BEGIN:VEVENT
DTSTART;TZID=Europe/London:20251005T110000
DTEND;TZID=Europe/London:20251005T160000
DTSTAMP:20260424T113540
CREATED:20250630T151646Z
LAST-MODIFIED:20250630T151837Z
UID:11077-1759662000-1759680000@parallel-worlds.co.uk
SUMMARY:London Comic Mart and POP! Market
DESCRIPTION:Comic Mart\nIf you’re looking for rare comics or exciting new ones we have a huge range of items available from over 120 traders stalls. Comic Mart is not just about the comics however\, as there are many other treasures to be found! We would recommend that you come along early – as the saying goes the early bird catches the worm\, and this is exactly the same with the bargains at the event. \nPOP! Market\nIf you’re looking for that rare chase\, Limited Edition or signed Funko Pop then this is the show for you. We have a huge range of items available. London Pop Market is not just about Funko Pops however\, as there are many other treasures to be found! We would recommend that you come along early – as the saying goes the early bird catches the worm\, and this is exactly the same with the bargains at the event.
URL:https://parallel-worlds.co.uk/event/london-comic-mart-and-pop-market-3
LOCATION:The Royal National Hotel\, 38-51 Bedford Way\, London\, WC1H 0DG\, United Kingdom
CATEGORIES:ComicCon
ATTACH;FMTTYPE=image/png:https://parallel-worlds.co.uk/wp-content/uploads/2025/02/London-Comic-and-POP-Mart-Logo.png
END:VEVENT
BEGIN:VEVENT
DTSTART;TZID=Europe/London:20251012T100000
DTEND;TZID=Europe/London:20251012T160000
DTSTAMP:20260424T113540
CREATED:20250630T152303Z
LAST-MODIFIED:20250630T152303Z
UID:11082-1760263200-1760284800@parallel-worlds.co.uk
SUMMARY:Leicester Comic Con & Toy Fair
DESCRIPTION:Striking Events bring together the fun of comic cons and toy fairs without the hype\, enjoy a friendly day out where you can discover some amazing traders to cater for all your collector needs. With plenty of activities on offer you can enjoy the best of comic cons\, and if you like to grab some cool or unique stuff then this is the place to be. \nExhibitors\nWhatever you collect\, whatever your fandom\, we will have a hall full of exhibitors to cater to your interests. Find unique and highly collectable items\, or just something that you’ve always wanted! \nCosplay\nCosplayers welcome\, be who you want to be if only for a day\, calling all superheros\, movie icons and pop culture elites! \nRetro Gaming\nRediscover the heady days of gaming in our retro gaming area\, featuring the very best console games from the golden age of gaming. \nCard Game Area\nTake your seats\, from experienced gamers to novices\, it’s time to do battle! \nMovie Cars\nThe cars are the stars\, and you’ll have the chance to get up close to some of the most iconic cars of the silver screen. \nPhoto Opportunities\nEnjoy plenty of photo opportunities to make your social media sparkle or create fun memories for your family!
URL:https://parallel-worlds.co.uk/event/leicester-comic-con-toy-fair-3
LOCATION:Aylestone Leisure Centre\, Aylestone Leisure Centre 2 Knighton Lane East\, Leicester\, LE2 6LU\, United Kingdom
CATEGORIES:ComicCon,Toy Fair
ATTACH;FMTTYPE=image/jpeg:https://parallel-worlds.co.uk/wp-content/uploads/2023/01/Striking-Events-Header.jpg
END:VEVENT
BEGIN:VEVENT
DTSTART;TZID=Europe/London:20251018T100000
DTEND;TZID=Europe/London:20251018T160000
DTSTAMP:20260424T113540
CREATED:20250221T152030Z
LAST-MODIFIED:20250221T152030Z
UID:8771-1760781600-1760803200@parallel-worlds.co.uk
SUMMARY:Spalding Comic-Con
DESCRIPTION:SPALDING COMICON IS BACK for 2025 at Springfields Events Center. \nWith displays\, exhibits\, celebrities\, talks and loads of traders from across the galaxy selling everything from clothing and other merchandise to unique\, bespoke cosplay accessories. \nSpalding Comicon is sponsored by The Retro Retreat\, Kings Lynn. The Retro Retreat is Norfolks largest Pokemon store and also sells a great selection of games and consoles.
URL:https://parallel-worlds.co.uk/event/spalding-comic-con-2
LOCATION:Springfields Event Centre\, Camel Gate\, Spalding\, PE12 6ET
CATEGORIES:ComicCon
ATTACH;FMTTYPE=image/png:https://parallel-worlds.co.uk/wp-content/uploads/2024/04/Spalding-Comic-Con-Logo.png
ORGANIZER;CN="The Retro Retreat":MAILTO:support@theretroretreat.co.uk
END:VEVENT
BEGIN:VEVENT
DTSTART;TZID=Europe/London:20251019T100000
DTEND;TZID=Europe/London:20251019T160000
DTSTAMP:20260424T113540
CREATED:20250630T154024Z
LAST-MODIFIED:20250630T154024Z
UID:11085-1760868000-1760889600@parallel-worlds.co.uk
SUMMARY:Spalding Card Show
DESCRIPTION:Get ready for an unforgettable day at the Spalding Card Show on Sunday\, 19th October 2025\, hosted at Springfields Events Centre!
URL:https://parallel-worlds.co.uk/event/spalding-card-show
LOCATION:Springfields Event Centre\, Camel Gate\, Spalding\, PE12 6ET
CATEGORIES:ComicCon,Gaming
ATTACH;FMTTYPE=image/png:https://parallel-worlds.co.uk/wp-content/uploads/2025/06/Spalding-Card-Show-Logo-scaled.png
ORGANIZER;CN="The Retro Retreat":MAILTO:support@theretroretreat.co.uk
END:VEVENT
END:VCALENDAR