BEGIN:VCALENDAR
VERSION:2.0
PRODID:-//Parallel Worlds - ECPv6.15.20//NONSGML v1.0//EN
CALSCALE:GREGORIAN
METHOD:PUBLISH
X-ORIGINAL-URL:https://parallel-worlds.co.uk
X-WR-CALDESC:Events for Parallel Worlds
REFRESH-INTERVAL;VALUE=DURATION:PT1H
X-Robots-Tag:noindex
X-PUBLISHED-TTL:PT1H
BEGIN:VTIMEZONE
TZID:Europe/London
BEGIN:DAYLIGHT
TZOFFSETFROM:+0000
TZOFFSETTO:+0100
TZNAME:BST
DTSTART:20220327T010000
END:DAYLIGHT
BEGIN:STANDARD
TZOFFSETFROM:+0100
TZOFFSETTO:+0000
TZNAME:GMT
DTSTART:20221030T010000
END:STANDARD
BEGIN:DAYLIGHT
TZOFFSETFROM:+0000
TZOFFSETTO:+0100
TZNAME:BST
DTSTART:20230326T010000
END:DAYLIGHT
BEGIN:STANDARD
TZOFFSETFROM:+0100
TZOFFSETTO:+0000
TZNAME:GMT
DTSTART:20231029T010000
END:STANDARD
BEGIN:DAYLIGHT
TZOFFSETFROM:+0000
TZOFFSETTO:+0100
TZNAME:BST
DTSTART:20240331T010000
END:DAYLIGHT
BEGIN:STANDARD
TZOFFSETFROM:+0100
TZOFFSETTO:+0000
TZNAME:GMT
DTSTART:20241027T010000
END:STANDARD
END:VTIMEZONE
BEGIN:VEVENT
DTSTART;TZID=Europe/London:20230722T100000
DTEND;TZID=Europe/London:20230723T160000
DTSTAMP:20260424T095258
CREATED:20230111T175921Z
LAST-MODIFIED:20230111T175921Z
UID:5213-1690020000-1690128000@parallel-worlds.co.uk
SUMMARY:Cleethorpes Beachside Comic Con
DESCRIPTION:Whats happening at the event?\nGuests from TV\, Film and Gaming\nTraders\nExhibitors and Props\nAttractions\nCosplay zone\nGuests talks\nCosplay competitions\nFood will be available onsite\nand much more…
URL:https://parallel-worlds.co.uk/event/cleethorpes-beachside-comic-con
LOCATION:Cleethorpes Leisure Centre\, Kingsway\, Cleethorpes DN35 0BY\, Cleethorpes Leisure Centre\, Kingsway\, Cleethorpes\, DN35 0BY\, United Kingdom
CATEGORIES:ComicCon
ATTACH;FMTTYPE=image/webp:https://parallel-worlds.co.uk/wp-content/uploads/2023/01/BeechsideComicCon_Logo.webp
END:VEVENT
END:VCALENDAR